BEGIN:VCALENDAR
VERSION:2.0
PRODID:-//Zeiss Planetarium und Sternwarte Schneeberg - ECPv6.15.20//NONSGML v1.0//EN
CALSCALE:GREGORIAN
METHOD:PUBLISH
X-WR-CALNAME:Zeiss Planetarium und Sternwarte Schneeberg
X-ORIGINAL-URL:https://www.sternwarte-schneeberg.de
X-WR-CALDESC:Veranstaltungen für Zeiss Planetarium und Sternwarte Schneeberg
REFRESH-INTERVAL;VALUE=DURATION:PT1H
X-Robots-Tag:noindex
X-PUBLISHED-TTL:PT1H
BEGIN:VTIMEZONE
TZID:Europe/Berlin
BEGIN:DAYLIGHT
TZOFFSETFROM:+0100
TZOFFSETTO:+0200
TZNAME:CEST
DTSTART:20250330T010000
END:DAYLIGHT
BEGIN:STANDARD
TZOFFSETFROM:+0200
TZOFFSETTO:+0100
TZNAME:CET
DTSTART:20251026T010000
END:STANDARD
BEGIN:DAYLIGHT
TZOFFSETFROM:+0100
TZOFFSETTO:+0200
TZNAME:CEST
DTSTART:20260329T010000
END:DAYLIGHT
BEGIN:STANDARD
TZOFFSETFROM:+0200
TZOFFSETTO:+0100
TZNAME:CET
DTSTART:20261025T010000
END:STANDARD
BEGIN:DAYLIGHT
TZOFFSETFROM:+0100
TZOFFSETTO:+0200
TZNAME:CEST
DTSTART:20270328T010000
END:DAYLIGHT
BEGIN:STANDARD
TZOFFSETFROM:+0200
TZOFFSETTO:+0100
TZNAME:CET
DTSTART:20271031T010000
END:STANDARD
END:VTIMEZONE
BEGIN:VEVENT
DTSTART;TZID=Europe/Berlin:20260210T140000
DTEND;TZID=Europe/Berlin:20260210T140000
DTSTAMP:20260426T022503
CREATED:20251106T184455Z
LAST-MODIFIED:20260128T121615Z
UID:10001084-1770732000-1770732000@www.sternwarte-schneeberg.de
SUMMARY:Abenteuer Planeten mit Felix & Luna
DESCRIPTION:Endlich ist es soweit: Unser superschneller Raumkreuzer hebt vom Weltraumbahnhof ab und startet zu einer großen Planetentour! Gemeinsam mit Felix und Luna begeben wir uns auf ein spannendes\, immersives Weltraumabenteuer\, das uns viele Jahre lang durch unser Sonnensystem führen wird.\n\n\nUnter der Fulldome-Kuppel erleben wir die Planeten aus nächster Nähe – von den heißen\, sonnennahen Welten bis zu den eisigen Riesen am Rand des Sonnensystems. Doch damit nicht genug: Auf unserer Reise besuchen wir auch einige der faszinierendsten Eismonde\, die um ferne Planeten kreisen.\n\n\n\nTief unter ihren dicken Eisschichten verbergen sich gewaltige Ozeane aus flüssigem Wasser. Gemeinsam gehen wir der spannenden Frage nach: Könnte es dort draußen\, fernab der Erde\, vielleicht Leben geben? Was braucht Leben eigentlich – und wo im Sonnensystem könnten diese Bedingungen erfüllt sein?\n\n\nMit beeindruckenden Bildern\, kindgerechten Erklärungen und dem Gefühl\, selbst an Bord eines Raumschiffs zu sein\, macht diese Fulldomeshow Astronomie lebendig und greifbar.\n\n\n\n Empfohlen für Kinder ab 6 Jahren – zum Staunen\, Entdecken und Mitforschen.
URL:https://www.sternwarte-schneeberg.de/event/abenteuer-planeten-mit-felix-luna/2026-02-10/2/
LOCATION:Zeiss-Planetarium und Sternwarte in Schneeberg\, Heinrich-Heine-Straße 13a\, Schneeberg\, Sachsen\, 08289\, Deutschland
CATEGORIES:Zeiss-Planetarium
ATTACH;FMTTYPE=image/png:https://www.sternwarte-schneeberg.de/wp-content/uploads/2025/11/Titel_Abenteuer-Planeten.png
END:VEVENT
BEGIN:VEVENT
DTSTART;TZID=Europe/Berlin:20260210T160000
DTEND;TZID=Europe/Berlin:20260210T160000
DTSTAMP:20260426T022503
CREATED:20251106T184455Z
LAST-MODIFIED:20260128T121615Z
UID:10001001-1770739200-1770739200@www.sternwarte-schneeberg.de
SUMMARY:Abenteuer Planeten mit Felix & Luna
DESCRIPTION:Endlich ist es soweit: Unser superschneller Raumkreuzer hebt vom Weltraumbahnhof ab und startet zu einer großen Planetentour! Gemeinsam mit Felix und Luna begeben wir uns auf ein spannendes\, immersives Weltraumabenteuer\, das uns viele Jahre lang durch unser Sonnensystem führen wird.\n\n\nUnter der Fulldome-Kuppel erleben wir die Planeten aus nächster Nähe – von den heißen\, sonnennahen Welten bis zu den eisigen Riesen am Rand des Sonnensystems. Doch damit nicht genug: Auf unserer Reise besuchen wir auch einige der faszinierendsten Eismonde\, die um ferne Planeten kreisen.\n\n\n\nTief unter ihren dicken Eisschichten verbergen sich gewaltige Ozeane aus flüssigem Wasser. Gemeinsam gehen wir der spannenden Frage nach: Könnte es dort draußen\, fernab der Erde\, vielleicht Leben geben? Was braucht Leben eigentlich – und wo im Sonnensystem könnten diese Bedingungen erfüllt sein?\n\n\nMit beeindruckenden Bildern\, kindgerechten Erklärungen und dem Gefühl\, selbst an Bord eines Raumschiffs zu sein\, macht diese Fulldomeshow Astronomie lebendig und greifbar.\n\n\n\n Empfohlen für Kinder ab 6 Jahren – zum Staunen\, Entdecken und Mitforschen.
URL:https://www.sternwarte-schneeberg.de/event/abenteuer-planeten-mit-felix-luna/2026-02-10/3/
LOCATION:Zeiss-Planetarium und Sternwarte in Schneeberg\, Heinrich-Heine-Straße 13a\, Schneeberg\, Sachsen\, 08289\, Deutschland
CATEGORIES:Zeiss-Planetarium
ATTACH;FMTTYPE=image/png:https://www.sternwarte-schneeberg.de/wp-content/uploads/2025/11/Titel_Abenteuer-Planeten.png
END:VEVENT
BEGIN:VEVENT
DTSTART;TZID=Europe/Berlin:20260213T110000
DTEND;TZID=Europe/Berlin:20260213T110000
DTSTAMP:20260426T022503
CREATED:20240212T104326Z
LAST-MODIFIED:20260131T140748Z
UID:10001008-1770980400-1770980400@www.sternwarte-schneeberg.de
SUMMARY:Ferne Welten - fremdes Leben?
DESCRIPTION:Gibt es Leben im All? Wohl keine andere Frage\, die wir über das Universum stellen können\, beschäftigt uns so stark und wohl keine Entdeckung hätte so große Bedeutung für unser Weltbild wie außerirdische Lebewesen. In den letzten Jahren haben wir unglaubliche Fortschritte gemacht – in unserer Planetariumsshow sind Sie hautnah dabei! \nBegleiten Sie uns auf einer fantastischen Spurensuche im Kosmos. \nVielleicht werden wir schon vor unserer Haustür\, in unserem Sonnensystem\, fündig? Landen Sie mit einer Raumsonde auf dem Mars\, auf dem in ferner Vergangenheit womöglich einmal Leben entstand. Erforschen Sie den Jupitermond Europa\, unter dessen dickem Eispanzer sich ein gewaltiger Ozean verbirgt! \nStoßen Sie dann zu den Sternen vor\, den Geschwistern der Sonne\, und nehmen Sie teil an der aufregenden Jagd nach erdähnlichen Planeten! Die ersten Kandidaten für bewohnbare Planeten sind schon gefunden. Aber die fernen Welten sind fremdartig: Wie mag das Leben aussehen\, das sich dort – vielleicht – entwickelt hat? Lassen wir unsere Fantasie spielen … und fragen wir uns\, wie die Chancen stehen\, jemals intelligente Außerirdische zu finden\, mit denen wir Kontakt aufnehmen können! \nAltersempfehlung: ab 10 Jahre\nDauer: ca. 90 Minuten\nIm Anschluss an die Veranstaltung im Planetarium besteht je nach Wetterlage die Möglichkeit\, die Sternwarte zu besichtigen. \nEine Reservierung ist nicht erforderlich aber gern möglich unter: 03772 22439.
URL:https://www.sternwarte-schneeberg.de/event/ferne-welten-fremdes-leben-2-2/2026-02-13/1/
LOCATION:Zeiss-Planetarium und Sternwarte in Schneeberg\, Heinrich-Heine-Straße 13a\, Schneeberg\, Sachsen\, 08289\, Deutschland
CATEGORIES:Zeiss-Planetarium
ATTACH;FMTTYPE=image/png:https://www.sternwarte-schneeberg.de/wp-content/uploads/2024/02/Ferne-Welten-Szenario.png
END:VEVENT
BEGIN:VEVENT
DTSTART;TZID=Europe/Berlin:20260213T160000
DTEND;TZID=Europe/Berlin:20260213T160000
DTSTAMP:20260426T022503
CREATED:20240212T104326Z
LAST-MODIFIED:20260131T140748Z
UID:10001010-1770998400-1770998400@www.sternwarte-schneeberg.de
SUMMARY:Ferne Welten - fremdes Leben?
DESCRIPTION:Gibt es Leben im All? Wohl keine andere Frage\, die wir über das Universum stellen können\, beschäftigt uns so stark und wohl keine Entdeckung hätte so große Bedeutung für unser Weltbild wie außerirdische Lebewesen. In den letzten Jahren haben wir unglaubliche Fortschritte gemacht – in unserer Planetariumsshow sind Sie hautnah dabei! \nBegleiten Sie uns auf einer fantastischen Spurensuche im Kosmos. \nVielleicht werden wir schon vor unserer Haustür\, in unserem Sonnensystem\, fündig? Landen Sie mit einer Raumsonde auf dem Mars\, auf dem in ferner Vergangenheit womöglich einmal Leben entstand. Erforschen Sie den Jupitermond Europa\, unter dessen dickem Eispanzer sich ein gewaltiger Ozean verbirgt! \nStoßen Sie dann zu den Sternen vor\, den Geschwistern der Sonne\, und nehmen Sie teil an der aufregenden Jagd nach erdähnlichen Planeten! Die ersten Kandidaten für bewohnbare Planeten sind schon gefunden. Aber die fernen Welten sind fremdartig: Wie mag das Leben aussehen\, das sich dort – vielleicht – entwickelt hat? Lassen wir unsere Fantasie spielen … und fragen wir uns\, wie die Chancen stehen\, jemals intelligente Außerirdische zu finden\, mit denen wir Kontakt aufnehmen können! \nAltersempfehlung: ab 10 Jahre\nDauer: ca. 90 Minuten\nIm Anschluss an die Veranstaltung im Planetarium besteht je nach Wetterlage die Möglichkeit\, die Sternwarte zu besichtigen. \nEine Reservierung ist nicht erforderlich aber gern möglich unter: 03772 22439.
URL:https://www.sternwarte-schneeberg.de/event/ferne-welten-fremdes-leben-2-2/2026-02-13/3/
LOCATION:Zeiss-Planetarium und Sternwarte in Schneeberg\, Heinrich-Heine-Straße 13a\, Schneeberg\, Sachsen\, 08289\, Deutschland
CATEGORIES:Zeiss-Planetarium
ATTACH;FMTTYPE=image/png:https://www.sternwarte-schneeberg.de/wp-content/uploads/2024/02/Ferne-Welten-Szenario.png
END:VEVENT
END:VCALENDAR