BEGIN:VCALENDAR
VERSION:2.0
PRODID:-//Zeiss Planetarium und Sternwarte Schneeberg - ECPv6.15.20//NONSGML v1.0//EN
CALSCALE:GREGORIAN
METHOD:PUBLISH
X-ORIGINAL-URL:https://www.sternwarte-schneeberg.de
X-WR-CALDESC:Veranstaltungen für Zeiss Planetarium und Sternwarte Schneeberg
REFRESH-INTERVAL;VALUE=DURATION:PT1H
X-Robots-Tag:noindex
X-PUBLISHED-TTL:PT1H
BEGIN:VTIMEZONE
TZID:Europe/Berlin
BEGIN:DAYLIGHT
TZOFFSETFROM:+0100
TZOFFSETTO:+0200
TZNAME:CEST
DTSTART:20250330T010000
END:DAYLIGHT
BEGIN:STANDARD
TZOFFSETFROM:+0200
TZOFFSETTO:+0100
TZNAME:CET
DTSTART:20251026T010000
END:STANDARD
BEGIN:DAYLIGHT
TZOFFSETFROM:+0100
TZOFFSETTO:+0200
TZNAME:CEST
DTSTART:20260329T010000
END:DAYLIGHT
BEGIN:STANDARD
TZOFFSETFROM:+0200
TZOFFSETTO:+0100
TZNAME:CET
DTSTART:20261025T010000
END:STANDARD
BEGIN:DAYLIGHT
TZOFFSETFROM:+0100
TZOFFSETTO:+0200
TZNAME:CEST
DTSTART:20270328T010000
END:DAYLIGHT
BEGIN:STANDARD
TZOFFSETFROM:+0200
TZOFFSETTO:+0100
TZNAME:CET
DTSTART:20271031T010000
END:STANDARD
END:VTIMEZONE
BEGIN:VEVENT
DTSTART;TZID=Europe/Berlin:20260104T160000
DTEND;TZID=Europe/Berlin:20260104T160000
DTSTAMP:20260425T224649
CREATED:20251104T133903Z
LAST-MODIFIED:20260415T154212Z
UID:10000977-1767542400-1767542400@www.sternwarte-schneeberg.de
SUMMARY:Ein Sternbild für Flappi
DESCRIPTION:Flappi ist eine kleine\, neugierige Fledermaus\, die sich Fragen über den Himmel stellt. Da sie im Kreise ihrer Artgenossen keine Antworten findet\, zieht sie hinaus in die Welt der Menschen. In einer Sternwarte erfährt sie von Sternen\, Sternbildern und dem Mond. Auf einer Reise durch die Nacht trifft sie auf Skybat\, ein legendäres Fledertier vom Mond. Gemeinsam suchen sie nach einem neuen Sternbild am Himmel: der Fledermaus! \nAltersempfehlung: 5 – 8 Jahre\nIm Anschluss an die Veranstaltung im Planetarium besteht je nach Wetterlage die Möglichkeit\, die Sternwarte zu besichtigen.
URL:https://www.sternwarte-schneeberg.de/event/ein-sternbild-fuer-flappi/2026-01-04/
LOCATION:Zeiss-Planetarium und Sternwarte in Schneeberg\, Heinrich-Heine-Straße 13a\, Schneeberg\, Sachsen\, 08289\, Deutschland
CATEGORIES:Zeiss-Planetarium
ATTACH;FMTTYPE=image/webp:https://www.sternwarte-schneeberg.de/wp-content/uploads/2025/11/Flappi.webp
END:VEVENT
END:VCALENDAR